BEGIN:VCALENDAR
VERSION:2.0
METHOD:PUBLISH
BEGIN:VEVENT
UID:WILD_APRICOT_EVENT_682148_SESSION_1
DTSTART:20130529T220000Z
DTEND:20130529T230000Z
SUMMARY:EWPA (Inc.) Annual General Meeting
LOCATION:Youngman Richardson & Co Limited\, 6-10 Parkway Drive\, Mairangi Bay.
DESCRIPTION:http://ewpa.org.nz/event-682148\n\nThe EWPA (Inc.) are pleased to give notice of the upcoming AGM\, to be held at the premise of Youngman Richardson & Co\, 6-10 Parkway Drive\, Mairangi Bay on Thursday 30th May 2013.  \n  Many changes have taken place at the EWPA in the past 6 months\, including work to re-structure the organisation. We want to share some of these changes\, results and what you can expect to see from the EWPA moving forward. We encourage members to attend and participate!   \n  \n\n
DTSTAMP:20181218T135356Z
END:VEVENT
END:VCALENDAR
