BEGIN:VCALENDAR
VERSION:2.0
METHOD:PUBLISH
BEGIN:VEVENT
UID:WILD_APRICOT_EVENT_2943740_SESSION_1
DTSTART:20180703T120000Z
DTEND:20180705T120000Z
SUMMARY:EWPA Conference & Trade Show 2018
LOCATION:Energy Events Centre\, 100 Queens Drive\, Rotorua
DESCRIPTION:http://ewpa.org.nz/event-2943740\n\n\n\n  The EWPA (Inc.) are pleased to give notice of the upcoming Conference \, AGM & Trade Show\, to be held at the Energy Events Centre\, in Rotorua\, 4th & 5th July 2018. All members are encouraged to attend and participate.\n \n The industry continues to evolve and this is an excellent event to deliver educational information\, highlight the current & future work of the EWPA and to give exposure to the EWP industry. \n  The events is again held in conjunction with the Hire & Forklift Industries to provide greater value and industry networking opportunity to the EWPA membership.   \n\n  Information detailing the event format\, registration options and associated costs can be found online here\n  We look forward to seeing you in Rotorua!\n\n  REGISTER TODAY!\n  \n\n
DTSTAMP:20181218T135037Z
END:VEVENT
END:VCALENDAR
