BEGIN:VCALENDAR
VERSION:2.0
METHOD:PUBLISH
BEGIN:VEVENT
UID:WILD_APRICOT_EVENT_2868542_SESSION_1
DTSTART:20180411T224500Z
DTEND:20180412T020000Z
SUMMARY:Members Networking Function - Sth Island
LOCATION:Peppers Clearwater Resort\, Clearwater Ave\, Northwood\, Christchurch
DESCRIPTION:http://ewpa.org.nz/event-2868542\n\nJoin fellow EWPA members to learn of industry initiatives\, innovation and key events. \n Includes buffet networking lunch and guest speaker. Cost per person to attend - $50. \n Will be invoiced directly from EWPA.\n  Download the function format here. \n  11.00am\n Meet & Greet Grab a coffee.\n \n 11.15am\n Meeting & Presentations. Includes: Registered Inspector Programme\, Load Restraint Guidance\, Non-Destructive Testing. Receive information about key industry projects\, events and activities.\n\n  12.30pm\n Networking Luncheon Buffet style networking lunch\n \n 1.15pm\n Speaker - Lance Burdett \n  Heavily involved as a crisis negotiator for over 13 years\, Lance Burdett became the National Advisor for all NZ Police Negotiation Teams. He completed the NZ Police Negotiation course (and remains an instructor)\, the FBI Negotiators Course\, and the Counter Terrorist Negotiators Course held in Australia. He ran numerous high-risk negotiations including the Napier Siege and the highly-publicised Paremoremo prison hostage situation. Lance specialised in suicide intervention. Following a stint as the Commander of the Police Emergency call centre where he further honed his communication skills\, Lance developed and delivered coaching sessions on managing difficult people and on reducing personal stress to varied audiences. His communications and resilience programme was nationally accepted by NZ Police and now forms part of their mandatory training for all emergency call centre staff. \n  2.00pm\n Function concludes\n\n  \n\n  \n\n  \n\n
DTSTAMP:20181218T135048Z
END:VEVENT
END:VCALENDAR
