BEGIN:VCALENDAR
VERSION:2.0
METHOD:PUBLISH
BEGIN:VEVENT
UID:WILD_APRICOT_EVENT_2540820_SESSION_1
DTSTART:20170725T203000Z
DTEND:20170725T203000Z
SUMMARY:EWPA Conference & Trade Show 2017
LOCATION:Marlborough Events Centre\, 42A Alfred St\, Blenhiem
DESCRIPTION:http://ewpa.org.nz/event-2540820\n\nThe EWPA (Inc.) are pleased to give notice of the upcoming Conference \, AGM & Trade Show\, to be held at the Blenheim Events Centre on Wednesday 26th July 2017. All members are encouraged to attend and participate.\n \n The industry continues to evolve and this is an excellent event to deliver educational information\, highlight the current & future work of the EWPA and to give exposure to the EWP industry. \n  The events is again held in conjunction with the Hire Industry Conference to provide greater value and industry networking opportunity to the EWPA membership.   \n\n  Information detailing the event format\, registration options and associated costs can be downloaded here.\n  We look forward to seeing you in Blenheim!\n\n  \n\n
DTSTAMP:20181218T135130Z
END:VEVENT
END:VCALENDAR
