BEGIN:VCALENDAR
VERSION:2.0
METHOD:PUBLISH
BEGIN:VEVENT
UID:WILD_APRICOT_EVENT_2276674_SESSION_1
DTSTART:20161115T110000Z
DTEND:20161117T110000Z
SUMMARY:Auckland Build Expo 2016
LOCATION:ASB Showgrounds\, Auckland
DESCRIPTION:http://ewpa.org.nz/event-2276674\n\nAuckland Build Expo is a leading new Construction Expo for New Zealand and provides the ideal opportunity for your organisation to get involved in Auckland and New Zealand’s booming construction industry. Auckland Build allows you to uncover the latest developments\, strategies and opportunities in construction\; as well as the opportunity to access major contractors\, developers and suppliers from across New Zealand and around the world. Visit Auckland Build Expo 2016 website by clicking here. You can contact Katherine Chan at katherine@oliverkinross.com for further information.\n\n
DTSTAMP:20181218T135154Z
END:VEVENT
END:VCALENDAR
