BEGIN:VCALENDAR
VERSION:2.0
METHOD:PUBLISH
BEGIN:VEVENT
UID:WILD_APRICOT_EVENT_2154761_SESSION_1
DTSTART:20160418T120000Z
DTEND:20160419T120000Z
SUMMARY:CBIP Inspector Examinations
LOCATION:Hamilton/ New Plymouth/ Christchurch
DESCRIPTION:http://ewpa.org.nz/event-2154761\n\nCBIP are holding examinations on this date in three locations through New Zealand - Hamilton\, New Plymouth & Christchurch.\n  Information about becoming an inspector\, re-certification and application to exams\, visit the EWP Inspector webpage on the CBIP website by clicking here.\n  \n\n   \n
DTSTAMP:20181218T135227Z
END:VEVENT
END:VCALENDAR
