BEGIN:VCALENDAR
VERSION:2.0
METHOD:PUBLISH
BEGIN:VEVENT
UID:WILD_APRICOT_EVENT_1946197_SESSION_1
DTSTART:20150715T210000Z
DTEND:20150716T043000Z
SUMMARY:EWPA (Inc.) AGM (+extended options)
LOCATION:Chateau on the Park\, Deans Avenue\, Christchurch
DESCRIPTION:http://ewpa.org.nz/event-1946197\n\n\n The EWPA (Inc.) are pleased to give notice of the upcoming AGM\, to be held at the Chateau on the Park\, in Christchurch on Thursday 16th September 2014.\n\n  All members are encouraged to attend and participate. The industry continues to evolve and the AGM and conference provides a great platform to deliver information to industry arelating to work of the Association and future direction.\n  To provide greater value to the membership\, the EWPA has negotiated access to a trade show and EWP related workshops that are part of the Hire Industry Conference being held at the Distinction Hotel the same day.  \n\n  Please download this flyer to view the format of the day and options for registration.  \n  \n Registration options:\n Registration is required for all attendee's\;\n  AGM & Speaker Only - No cost to members.\n  AGM & Speaker - Plus Trade Show & Workshops - $120+gst \n  NB: EWPA Members who are also attending the HIANZ Conference\, should only register for AGM and Speaker Only\, as trade show and workshop is included with HIANZ rego. \n  \n Pls RVSP by way of registering please.  \n\n  We look forward to seeing you in Christchurch!\n  \n\n
DTSTAMP:20181218T135238Z
END:VEVENT
END:VCALENDAR
